BEGIN:VCALENDAR
VERSION:2.0
PRODID:-//Elyria Arts Council - ECPv6.15.20//NONSGML v1.0//EN
CALSCALE:GREGORIAN
METHOD:PUBLISH
X-ORIGINAL-URL:https://elyriaartscouncil.org
X-WR-CALDESC:Events for Elyria Arts Council
REFRESH-INTERVAL;VALUE=DURATION:PT1H
X-Robots-Tag:noindex
X-PUBLISHED-TTL:PT1H
BEGIN:VTIMEZONE
TZID:America/New_York
BEGIN:DAYLIGHT
TZOFFSETFROM:-0500
TZOFFSETTO:-0400
TZNAME:EDT
DTSTART:20250309T070000
END:DAYLIGHT
BEGIN:STANDARD
TZOFFSETFROM:-0400
TZOFFSETTO:-0500
TZNAME:EST
DTSTART:20251102T060000
END:STANDARD
BEGIN:DAYLIGHT
TZOFFSETFROM:-0500
TZOFFSETTO:-0400
TZNAME:EDT
DTSTART:20260308T070000
END:DAYLIGHT
BEGIN:STANDARD
TZOFFSETFROM:-0400
TZOFFSETTO:-0500
TZNAME:EST
DTSTART:20261101T060000
END:STANDARD
BEGIN:DAYLIGHT
TZOFFSETFROM:-0500
TZOFFSETTO:-0400
TZNAME:EDT
DTSTART:20270314T070000
END:DAYLIGHT
BEGIN:STANDARD
TZOFFSETFROM:-0400
TZOFFSETTO:-0500
TZNAME:EST
DTSTART:20271107T060000
END:STANDARD
END:VTIMEZONE
BEGIN:VEVENT
DTSTART;TZID=America/New_York:20260323T180000
DTEND;TZID=America/New_York:20260420T200000
DTSTAMP:20260423T145400
CREATED:20251023T175818Z
LAST-MODIFIED:20251023T193846Z
UID:5282-1774288800-1776715200@elyriaartscouncil.org
SUMMARY:Teen & Adult Pottery class
DESCRIPTION:Join a fun Pottery class with Anne Jesse! This class is for beginners to advanced students. You will have many options to hand build multiple items including;  plates\, bowls\, mugs\, coiled vessels\, & textured garden tiles. All supplies & firings are provided. This is a fun and relaxing class! Cost for all 4 days the class meets is $150.00. We skip one week between pottery making and glazing to allow time for drying and firing of work. This class takes place Monday evenings 6-8pm March 23rd\, 30th\, April 13th\, & 20th. Sign-up now by buying a “Ticket” or stop in to  EAC or give us a call at 440-328-3025. Class fees are due one week before class begins. Scholarships are available for those with tight budgets\, please inquire if interested! \n 
URL:https://elyriaartscouncil.org/event/teen-adult-pottery-class-7/
LOCATION:Elyria Arts Council\, 336 Broad Street\, Elyria\, OH\, 44035\, United States
CATEGORIES:adult classes,class,teen class
ATTACH;FMTTYPE=image/jpeg:https://elyriaartscouncil.org/wp-content/uploads/2025/10/IMG_0093-1.jpg
ORGANIZER;CN="Elyria Arts Council":MAILTO:elyriaartscouncil@gmail.com
END:VEVENT
BEGIN:VEVENT
DTSTART;TZID=America/New_York:20260417T180000
DTEND;TZID=America/New_York:20260417T200000
DTSTAMP:20260423T145400
CREATED:20260129T174147Z
LAST-MODIFIED:20260312T185539Z
UID:5535-1776448800-1776456000@elyriaartscouncil.org
SUMMARY:Mixed Media Doodle Birds Class
DESCRIPTION:Join us in creating whimsical watercolor multimedia doodle birds inspired by Diane Antone of Diane Antone Studio\, Friday April 17th 6-8pm. We will draw easy bird blob shapes with a circle template\, no drawing skill required. We will create a background using wet on wet and wet on dry watercolor technique to achieve soft blended edges as well as deliberate hard edges. We will learn the spatter technique and when best to apply it for desired results. Our birds will be layered with color and dimension using the wet on wet and wet on dry techniques and finally finished off with details using black permanent ink and white gel pens. Create your own feathered friend or use guide images that will be provided. Cost is $30 ($25/pp +$5supply fee). All supplies will be provided. \n***Scholarships are available for this class\, Please call EAC at 440-328-3025 or email us at: elyriaartscouncil@gmail.com if interested*** \n     \n 
URL:https://elyriaartscouncil.org/event/watercolor-mixed-media-pop-art-pet-portraits-class-2/
LOCATION:Elyria Arts Council\, 336 Broad Street\, Elyria\, OH\, 44035\, United States
CATEGORIES:adult classes,class
ATTACH;FMTTYPE=image/jpeg:https://elyriaartscouncil.org/wp-content/uploads/2026/01/20260123_124903.jpg
END:VEVENT
END:VCALENDAR