BEGIN:VCALENDAR
VERSION:2.0
PRODID:-//Elyria Arts Council - ECPv6.15.20//NONSGML v1.0//EN
CALSCALE:GREGORIAN
METHOD:PUBLISH
X-WR-CALNAME:Elyria Arts Council
X-ORIGINAL-URL:https://elyriaartscouncil.org
X-WR-CALDESC:Events for Elyria Arts Council
REFRESH-INTERVAL;VALUE=DURATION:PT1H
X-Robots-Tag:noindex
X-PUBLISHED-TTL:PT1H
BEGIN:VTIMEZONE
TZID:America/New_York
BEGIN:DAYLIGHT
TZOFFSETFROM:-0500
TZOFFSETTO:-0400
TZNAME:EDT
DTSTART:20250309T070000
END:DAYLIGHT
BEGIN:STANDARD
TZOFFSETFROM:-0400
TZOFFSETTO:-0500
TZNAME:EST
DTSTART:20251102T060000
END:STANDARD
BEGIN:DAYLIGHT
TZOFFSETFROM:-0500
TZOFFSETTO:-0400
TZNAME:EDT
DTSTART:20260308T070000
END:DAYLIGHT
BEGIN:STANDARD
TZOFFSETFROM:-0400
TZOFFSETTO:-0500
TZNAME:EST
DTSTART:20261101T060000
END:STANDARD
BEGIN:DAYLIGHT
TZOFFSETFROM:-0500
TZOFFSETTO:-0400
TZNAME:EDT
DTSTART:20270314T070000
END:DAYLIGHT
BEGIN:STANDARD
TZOFFSETFROM:-0400
TZOFFSETTO:-0500
TZNAME:EST
DTSTART:20271107T060000
END:STANDARD
END:VTIMEZONE
BEGIN:VEVENT
DTSTART;TZID=America/New_York:20260323T163000
DTEND;TZID=America/New_York:20260413T173000
DTSTAMP:20260423T173520
CREATED:20251023T181204Z
LAST-MODIFIED:20251023T181204Z
UID:5291-1774283400-1776101400@elyriaartscouncil.org
SUMMARY:Kid's pottery class with Hayden
DESCRIPTION:Join in the clay making fun at EAC! Two sessions of sculpting with clay will be held on Monday March 23rd\, 30th from 4:30-5:30pm and one session for glazing all work on Monday April 13th from 4:30-5:30pm.  This class is designed for kids aged 5-12 years old (if your child has not attended kindergarten\, we ask that an adult attend to assist the child). All supplies and firings are included. Class fee is $45.00. Sign-up by buying a ticket online below\, give us a call at 440-328-3025\, or come in and see us. All class fees can be covered by scholarship if necessary. Please contact us at elyriaartscouncil@gmail.com or 440-328-3025 if you wish to have your child attend on scholarship.
URL:https://elyriaartscouncil.org/event/kids-pottery-class-with-hayden-3/
LOCATION:Elyria Arts Council\, 336 Broad Street\, Elyria\, OH\, 44035\, United States
CATEGORIES:kids classes
ATTACH;FMTTYPE=image/jpeg:https://elyriaartscouncil.org/wp-content/uploads/2022/02/anne-j-frogs-and-worms.jpg
END:VEVENT
END:VCALENDAR