BEGIN:VCALENDAR
VERSION:2.0
PRODID:-//Elyria Arts Council - ECPv6.15.20//NONSGML v1.0//EN
CALSCALE:GREGORIAN
METHOD:PUBLISH
X-WR-CALNAME:Elyria Arts Council
X-ORIGINAL-URL:https://elyriaartscouncil.org
X-WR-CALDESC:Events for Elyria Arts Council
REFRESH-INTERVAL;VALUE=DURATION:PT1H
X-Robots-Tag:noindex
X-PUBLISHED-TTL:PT1H
BEGIN:VTIMEZONE
TZID:America/New_York
BEGIN:DAYLIGHT
TZOFFSETFROM:-0500
TZOFFSETTO:-0400
TZNAME:EDT
DTSTART:20250309T070000
END:DAYLIGHT
BEGIN:STANDARD
TZOFFSETFROM:-0400
TZOFFSETTO:-0500
TZNAME:EST
DTSTART:20251102T060000
END:STANDARD
BEGIN:DAYLIGHT
TZOFFSETFROM:-0500
TZOFFSETTO:-0400
TZNAME:EDT
DTSTART:20260308T070000
END:DAYLIGHT
BEGIN:STANDARD
TZOFFSETFROM:-0400
TZOFFSETTO:-0500
TZNAME:EST
DTSTART:20261101T060000
END:STANDARD
BEGIN:DAYLIGHT
TZOFFSETFROM:-0500
TZOFFSETTO:-0400
TZNAME:EDT
DTSTART:20270314T070000
END:DAYLIGHT
BEGIN:STANDARD
TZOFFSETFROM:-0400
TZOFFSETTO:-0500
TZNAME:EST
DTSTART:20271107T060000
END:STANDARD
END:VTIMEZONE
BEGIN:VEVENT
DTSTART;TZID=America/New_York:20260216T163000
DTEND;TZID=America/New_York:20260316T173000
DTSTAMP:20260423T154934
CREATED:20251023T180607Z
LAST-MODIFIED:20260120T163530Z
UID:5286-1771259400-1773682200@elyriaartscouncil.org
SUMMARY:Kid's pottery class with Hayden
DESCRIPTION:Join in the clay making fun at EAC! Two sessions of sculpting with clay will be held on Monday February 16th & 23rd from 4:30-5:30pm and one session for glazing all work on Monday March 16th from 4:30-5:30pm.  This class is designed for kids aged 5-12 years old (if your child has not attended kindergarten\, we ask that an adult attend to assist the child). All supplies and firings are included. Class fee is $45.00. Sign-up by buying a ticket online below\, give us a call at 440-328-3025\, or come in and see us. All class fees can be covered by scholarship if necessary. Please contact us at elyriaartscouncil@gmail.com or 440-328-3025 if you wish to have your child attend on scholarship.
URL:https://elyriaartscouncil.org/event/kids-pottery-class-with-hayden-2/
LOCATION:Elyria Arts Council\, 336 Broad Street\, Elyria\, OH\, 44035\, United States
CATEGORIES:kids classes
ATTACH;FMTTYPE=image/jpeg:https://elyriaartscouncil.org/wp-content/uploads/2022/02/anne-j-frogs-and-worms.jpg
END:VEVENT
BEGIN:VEVENT
DTSTART;TZID=America/New_York:20260216T180000
DTEND;TZID=America/New_York:20260316T200000
DTSTAMP:20260423T154934
CREATED:20251023T175218Z
LAST-MODIFIED:20251023T193939Z
UID:5277-1771264800-1773691200@elyriaartscouncil.org
SUMMARY:Teen & Adult Pottery class
DESCRIPTION:Join a fun Pottery class with Anne Jesse! This class is for beginners to advanced students. You will have many options to hand build multiple items including;  plates\, bowls\, mugs\, vases\, coiled vessels\, & textured garden tiles. All supplies & firings are provided. This is a fun and relaxing class! Cost for all 4 days the class meets is $150.00. We skip one week between pottery making and glazing to allow time for drying and firing of work. This class takes place Monday evenings 6-8pm February 16th\, 23rd\, March 9th\, & 16th. Sign-up now by buying a “Ticket” or stop in to  EAC or give us a call at 440-328-3025. Class fees are due one week before class begins. Scholarships are available for those with tight budgets\, please inquire if interested! \n 
URL:https://elyriaartscouncil.org/event/teen-adult-pottery-class-6/
LOCATION:Elyria Arts Council\, 336 Broad Street\, Elyria\, OH\, 44035\, United States
CATEGORIES:adult classes,class,teen class
ATTACH;FMTTYPE=image/jpeg:https://elyriaartscouncil.org/wp-content/uploads/2021/07/Anne-Jesse-Pottery-2-scaled.jpg
ORGANIZER;CN="Elyria Arts Council":MAILTO:elyriaartscouncil@gmail.com
END:VEVENT
BEGIN:VEVENT
DTSTART;TZID=America/New_York:20260306T180000
DTEND;TZID=America/New_York:20260306T200000
DTSTAMP:20260423T154934
CREATED:20251114T202337Z
LAST-MODIFIED:20260305T183722Z
UID:5352-1772820000-1772827200@elyriaartscouncil.org
SUMMARY:ZenDoodle Watercolor Class with Jennifer
DESCRIPTION:This class is an introduction to beginner watercolor painting. You will learn how to make a wash\, control water application\, the stages of drying\, and negative space and charging. We are making a fantasy forest with embellishments using permanent ink. This class will be held Friday March 6th\, 6-8 pm. Class fee is $30.00 with all supplies are provided ($25.00 instruction fee\, $5.00 materials fee). Payment is due 2 weeks before class begins. It will be a great time! Snacks and beverages are welcome. This class is non-refundable. If you are unable to attend\, credit can be issued minus the materials fee for an upcoming class that is taught by Jennifer. \n     
URL:https://elyriaartscouncil.org/event/zendoodle-watercolor-class-with-jennifer/
LOCATION:Elyria Arts Council\, 336 Broad Street\, Elyria\, OH\, 44035\, United States
CATEGORIES:adult classes,class
ATTACH;FMTTYPE=image/jpeg:https://elyriaartscouncil.org/wp-content/uploads/2025/11/IMG_0150.jpg
END:VEVENT
BEGIN:VEVENT
DTSTART;TZID=America/New_York:20260320T180000
DTEND;TZID=America/New_York:20260320T200000
DTSTAMP:20260423T154934
CREATED:20260122T182833Z
LAST-MODIFIED:20260312T190125Z
UID:5510-1774029600-1774036800@elyriaartscouncil.org
SUMMARY:Watercolor/Mixed Media Pop Art Pet Portraits Class
DESCRIPTION:Come and create using an 8×10 colored high contrast copy (from your printer) of your pet’s photo. We will trace the photo onto cotton watercolor paper using carbon paper; no drawing skills required. We will then outline your pet or other animal picture with thick black permanent ink. We will create a flat watercolor wash for the background and various shapes and shadows on your pet. After that is dry we will use cross hatching (criss cross lines) with an ultra fine tip permanent black ink pen to suggest a 3-dimensional appearance. Finally we will use white acrylic markers and gel pens to create the look and style of classic Pop Art. Class fee is $30 which includes all supplies for this 2 hour session. Please bring color copy 8×10 image. Please be advised the curly fur is challenging and not recommended for this beginner class.  \n***Scholarships are available for this class\, Please call EAC at 440-328-3025 or email us at: elyriaartscouncil@gmail.com if interested*** \n  \n  \nWhen Choosing photos for your Pop Art Pet Portrait\, choose a high contrast color image. We will be tracing these photos onto watercolor paper. Your ability to see features that are not lost in darkness will positively affect your final outcome. Crop your pet image so that the face and shoulders fills the page. Some good and bad examples are below. \n       \n       \n        \n 
URL:https://elyriaartscouncil.org/event/watercolor-mixed-media-pop-art-pet-portraits-class/
LOCATION:Elyria Arts Council\, 336 Broad Street\, Elyria\, OH\, 44035\, United States
CATEGORIES:adult classes,class
ATTACH;FMTTYPE=image/jpeg:https://elyriaartscouncil.org/wp-content/uploads/2026/01/20260115_002255.jpg
END:VEVENT
BEGIN:VEVENT
DTSTART;TZID=America/New_York:20260323T163000
DTEND;TZID=America/New_York:20260413T173000
DTSTAMP:20260423T154934
CREATED:20251023T181204Z
LAST-MODIFIED:20251023T181204Z
UID:5291-1774283400-1776101400@elyriaartscouncil.org
SUMMARY:Kid's pottery class with Hayden
DESCRIPTION:Join in the clay making fun at EAC! Two sessions of sculpting with clay will be held on Monday March 23rd\, 30th from 4:30-5:30pm and one session for glazing all work on Monday April 13th from 4:30-5:30pm.  This class is designed for kids aged 5-12 years old (if your child has not attended kindergarten\, we ask that an adult attend to assist the child). All supplies and firings are included. Class fee is $45.00. Sign-up by buying a ticket online below\, give us a call at 440-328-3025\, or come in and see us. All class fees can be covered by scholarship if necessary. Please contact us at elyriaartscouncil@gmail.com or 440-328-3025 if you wish to have your child attend on scholarship.
URL:https://elyriaartscouncil.org/event/kids-pottery-class-with-hayden-3/
LOCATION:Elyria Arts Council\, 336 Broad Street\, Elyria\, OH\, 44035\, United States
CATEGORIES:kids classes
ATTACH;FMTTYPE=image/jpeg:https://elyriaartscouncil.org/wp-content/uploads/2022/02/anne-j-frogs-and-worms.jpg
END:VEVENT
BEGIN:VEVENT
DTSTART;TZID=America/New_York:20260323T180000
DTEND;TZID=America/New_York:20260420T200000
DTSTAMP:20260423T154934
CREATED:20251023T175818Z
LAST-MODIFIED:20251023T193846Z
UID:5282-1774288800-1776715200@elyriaartscouncil.org
SUMMARY:Teen & Adult Pottery class
DESCRIPTION:Join a fun Pottery class with Anne Jesse! This class is for beginners to advanced students. You will have many options to hand build multiple items including;  plates\, bowls\, mugs\, coiled vessels\, & textured garden tiles. All supplies & firings are provided. This is a fun and relaxing class! Cost for all 4 days the class meets is $150.00. We skip one week between pottery making and glazing to allow time for drying and firing of work. This class takes place Monday evenings 6-8pm March 23rd\, 30th\, April 13th\, & 20th. Sign-up now by buying a “Ticket” or stop in to  EAC or give us a call at 440-328-3025. Class fees are due one week before class begins. Scholarships are available for those with tight budgets\, please inquire if interested! \n 
URL:https://elyriaartscouncil.org/event/teen-adult-pottery-class-7/
LOCATION:Elyria Arts Council\, 336 Broad Street\, Elyria\, OH\, 44035\, United States
CATEGORIES:adult classes,class,teen class
ATTACH;FMTTYPE=image/jpeg:https://elyriaartscouncil.org/wp-content/uploads/2025/10/IMG_0093-1.jpg
ORGANIZER;CN="Elyria Arts Council":MAILTO:elyriaartscouncil@gmail.com
END:VEVENT
BEGIN:VEVENT
DTSTART;TZID=America/New_York:20260417T180000
DTEND;TZID=America/New_York:20260417T200000
DTSTAMP:20260423T154934
CREATED:20260129T174147Z
LAST-MODIFIED:20260312T185539Z
UID:5535-1776448800-1776456000@elyriaartscouncil.org
SUMMARY:Mixed Media Doodle Birds Class
DESCRIPTION:Join us in creating whimsical watercolor multimedia doodle birds inspired by Diane Antone of Diane Antone Studio\, Friday April 17th 6-8pm. We will draw easy bird blob shapes with a circle template\, no drawing skill required. We will create a background using wet on wet and wet on dry watercolor technique to achieve soft blended edges as well as deliberate hard edges. We will learn the spatter technique and when best to apply it for desired results. Our birds will be layered with color and dimension using the wet on wet and wet on dry techniques and finally finished off with details using black permanent ink and white gel pens. Create your own feathered friend or use guide images that will be provided. Cost is $30 ($25/pp +$5supply fee). All supplies will be provided. \n***Scholarships are available for this class\, Please call EAC at 440-328-3025 or email us at: elyriaartscouncil@gmail.com if interested*** \n     \n 
URL:https://elyriaartscouncil.org/event/watercolor-mixed-media-pop-art-pet-portraits-class-2/
LOCATION:Elyria Arts Council\, 336 Broad Street\, Elyria\, OH\, 44035\, United States
CATEGORIES:adult classes,class
ATTACH;FMTTYPE=image/jpeg:https://elyriaartscouncil.org/wp-content/uploads/2026/01/20260123_124903.jpg
END:VEVENT
BEGIN:VEVENT
DTSTART;TZID=America/New_York:20260501T180000
DTEND;TZID=America/New_York:20260501T200000
DTSTAMP:20260423T154934
CREATED:20260311T144530Z
LAST-MODIFIED:20260325T185441Z
UID:5662-1777658400-1777665600@elyriaartscouncil.org
SUMMARY:Roll a PicassoWatercolor/Mixed Media Class with Jennifer
DESCRIPTION:       \nIn this class we will be painting an abstract Picasso style portrait using a numbered template with predetermined features. We will roll the die and draw the corresponding numeric feature. We will concentrate on the watercolor dynamics of shading and acheieve clean washes. Your sketched portrait will be outlined with permanent ink for bold contrast. No two portraits will be alike and there will be lots of laughs as we make sense of the features we roll.  All supplies will be provided. No drawing or painting experience is required. \nThis class will take place on Friday May 1st  6-8pm. Cost is $30 ($25 instructional fee +$5 materials fee). No cancellations or refunds will be given after April 24th. In the case of an unavoidable circumstance\, arrangements can be made for the attendance of another class by the same instructor. \n**Scholarships are available for this class\, Please call EAC at 440-328-3025 or email us at: elyriaartscouncil@gmail.com if interested***
URL:https://elyriaartscouncil.org/event/roll-a-picassowatercolor-mixed-media-class-with-jennifer/
LOCATION:Elyria Arts Council\, 336 Broad Street\, Elyria\, OH\, 44035\, United States
CATEGORIES:adult classes,class
ATTACH;FMTTYPE=image/jpeg:https://elyriaartscouncil.org/wp-content/uploads/2026/03/20260310_131026.jpg
END:VEVENT
BEGIN:VEVENT
DTSTART;TZID=America/New_York:20260504T163000
DTEND;TZID=America/New_York:20260518T173000
DTSTAMP:20260423T154934
CREATED:20260326T185514Z
LAST-MODIFIED:20260421T174224Z
UID:5716-1777912200-1779125400@elyriaartscouncil.org
SUMMARY:Kid's pottery class with Hayden
DESCRIPTION:Join in the clay making fun at EAC! Two sessions of sculpting with clay will be held on Monday May 4th & 11th\, and 18th from 4:30-5:30pm. This class is designed for kids aged 5-12 years old. If your child has not attended kindergarten\, we ask that an adult attend to assist the child. All supplies and firings are included. Class fee is $45.00. Sign-up by buying a ticket online below\, give us a call at 440-328-3025\, or come in and see us. All class fees can be covered by scholarship if necessary. Please contact us at elyriaartscouncil@gmail.com or 440-328-3025 if you wish to have your child attend on scholarship.
URL:https://elyriaartscouncil.org/event/kids-pottery-class-with-hayden/
LOCATION:Elyria Arts Council\, 336 Broad Street\, Elyria\, OH\, 44035\, United States
CATEGORIES:kids classes
ATTACH;FMTTYPE=image/jpeg:https://elyriaartscouncil.org/wp-content/uploads/2022/02/anne-j-frogs-and-worms.jpg
END:VEVENT
BEGIN:VEVENT
DTSTART;TZID=America/New_York:20260504T180000
DTEND;TZID=America/New_York:20260601T200000
DTSTAMP:20260423T154934
CREATED:20260326T184841Z
LAST-MODIFIED:20260421T163325Z
UID:5712-1777917600-1780344000@elyriaartscouncil.org
SUMMARY:Teen & Adult Pottery class
DESCRIPTION:Join a fun Pottery class with Anne Jesse! This class is for beginners to advanced students. You will have many options to hand build multiple items including;  plates\, bowls\, mugs\, coiled vessels\, & textured garden tiles. All supplies & firings are provided. This is a fun and relaxing class! Cost for all 4 days the class meets is $150.00. This class takes place Monday evenings 6-8pm May 4th\, 11th\, 18th\, & June 1st. Sign-up now by buying a “Ticket” or stop in to  EAC or give us a call at 440-328-3025. Class fees are due one week before class begins. Scholarships are available for those with tight budgets\, please inquire if interested! \n        \n 
URL:https://elyriaartscouncil.org/event/teen-adult-pottery-class-3/
LOCATION:Elyria Arts Council\, 336 Broad Street\, Elyria\, OH\, 44035\, United States
CATEGORIES:adult classes,class,teen class
ATTACH;FMTTYPE=image/jpeg:https://elyriaartscouncil.org/wp-content/uploads/2023/05/IMG_7084.jpg
ORGANIZER;CN="Elyria Arts Council":MAILTO:elyriaartscouncil@gmail.com
END:VEVENT
BEGIN:VEVENT
DTSTART;TZID=America/New_York:20260509T130000
DTEND;TZID=America/New_York:20260509T150000
DTSTAMP:20260423T154934
CREATED:20260402T184237Z
LAST-MODIFIED:20260423T182853Z
UID:5734-1778331600-1778338800@elyriaartscouncil.org
SUMMARY:Gardener's Delight Glass Fusing class with Jackie
DESCRIPTION:Have fun creating a sweet little flower pot scene in this glass fusing class with Jackie Willis. You will explore a variety of materials and techniques to create this cheerful stand alone decoration. Enjoy assembling your piece and Jackie will fuse it and return the to EAC within 7 days. All supplies are provided. Class fee is $45.00. Sign up and pay online by buying a ticket below\, or give us a call at 440-328-3025. \n**All classes at EAC can be paid through our Scholarship fund. Please contact us if interesed in attending this class with a scholarship.**
URL:https://elyriaartscouncil.org/event/gardeners-delight-glass-fusing-class-with-jackie/
LOCATION:Elyria Arts Council\, 336 Broad Street\, Elyria\, OH\, 44035\, United States
CATEGORIES:adult classes,class
ATTACH;FMTTYPE=image/jpeg:https://elyriaartscouncil.org/wp-content/uploads/2026/04/att.xigmqSAHd9B7IhK-mwGoZi3kC1MYSiEJCFGXayVCmW4.jpeg
END:VEVENT
BEGIN:VEVENT
DTSTART;TZID=America/New_York:20260515T180000
DTEND;TZID=America/New_York:20260515T200000
DTSTAMP:20260423T154934
CREATED:20260402T174107Z
LAST-MODIFIED:20260423T182643Z
UID:5728-1778868000-1778875200@elyriaartscouncil.org
SUMMARY:Mixed Media Watercolor Class with Jennifer
DESCRIPTION:                \nIn this loose mixed media class we will have fun exploring the wet-on-wet watercolor technique. We will use this technique to lay down the first layer of our painted collage on 6×8 watercolor paper suited nicely for a 5×7 frame. Next we will use the wet on dry technique to create contrasting details with random repetitions\, shapes\, and marks strengthening our brush control and allowing us to doodle without a fixed plan. Then we will sketch subjective doodles and shapes with a gel pen creating an objective composition. Once our composition has been mapped out\, we will paint the background\, which will be the negative space behind our subjects. Finally\, we will add details with permanent ink and acrylic paint pens which will bring our composition to life. All supplies will be provided. \nThis class will take place on Friday May 15th 6-8pm. Cost is $30 ($25 instructional fee +$5 materials fee). No cancellations or refunds will be given. In the case of an unavoidable circumstance\, arrangements can be made for the attendance of another class by the same instructor. \n**Scholarships are available for this class\, Please call EAC at 440-328-3025 or email us at: elyriaartscouncil@gmail.com if interested***
URL:https://elyriaartscouncil.org/event/mixed-media-class-with-jennifer/
LOCATION:Elyria Arts Council\, 336 Broad Street\, Elyria\, OH\, 44035\, United States
CATEGORIES:adult classes,class
ATTACH;FMTTYPE=image/jpeg:https://elyriaartscouncil.org/wp-content/uploads/2026/04/8676-scaled.jpg
END:VEVENT
BEGIN:VEVENT
DTSTART;TZID=America/New_York:20260608T180000
DTEND;TZID=America/New_York:20260629T200000
DTSTAMP:20260423T154934
CREATED:20260326T182021Z
LAST-MODIFIED:20260326T183332Z
UID:5701-1780941600-1782763200@elyriaartscouncil.org
SUMMARY:Teen & Adult Pottery class
DESCRIPTION:Join a fun Pottery class with Anne Jesse! This class is for beginners to advanced students. You will have many options to hand build multiple items including;  plates\, bowls\, mugs\, coiled vessels\, & textured garden tiles. All supplies & firings are provided. This is a fun and relaxing class! Cost for all 4 days the class meets is $150.00. We skip one week between pottery making and glazing to allow time for drying and firing of work. This class takes place Monday evenings 6-8pm June 8th\, 15th\, 22nd\, & 29th. Sign-up now by buying a “Ticket” or stop in to  EAC or give us a call at 440-328-3025. Class fees are due one week before class begins. Scholarships are available for those with tight budgets\, please inquire if interested!
URL:https://elyriaartscouncil.org/event/teen-adult-pottery-class/
LOCATION:Elyria Arts Council\, 336 Broad Street\, Elyria\, OH\, 44035\, United States
CATEGORIES:adult classes,class,teen class
ATTACH;FMTTYPE=image/jpeg:https://elyriaartscouncil.org/wp-content/uploads/2022/02/IMG_0707-scaled.jpg
ORGANIZER;CN="Elyria Arts Council":MAILTO:elyriaartscouncil@gmail.com
END:VEVENT
BEGIN:VEVENT
DTSTART;TZID=America/New_York:20260713T163000
DTEND;TZID=America/New_York:20260803T173000
DTSTAMP:20260423T154934
CREATED:20260326T190032Z
LAST-MODIFIED:20260326T190032Z
UID:5721-1783960200-1785778200@elyriaartscouncil.org
SUMMARY:Kid's pottery class with Hayden
DESCRIPTION:Join in the clay making fun at EAC! Two sessions of sculpting with clay will be held on Monday July 13th & 20th\, from 4:30-5:30pm and one session for glazing all work on Monday August 3rd from 4:30-5:30pm.  This class is designed for kids aged 5-12 years old. If your child has not attended kindergarten\, we ask that an adult attend to assist the child. All supplies and firings are included. Class fee is $45.00. Sign-up by buying a ticket online below\, give us a call at 440-328-3025\, or come in and see us. All class fees can be covered by scholarship if necessary. Please contact us at elyriaartscouncil@gmail.com or 440-328-3025 if you wish to have your child attend on scholarship.
URL:https://elyriaartscouncil.org/event/kids-pottery-class-with-hayden-4/
LOCATION:Elyria Arts Council\, 336 Broad Street\, Elyria\, OH\, 44035\, United States
CATEGORIES:kids classes
ATTACH;FMTTYPE=image/jpeg:https://elyriaartscouncil.org/wp-content/uploads/2022/02/anne-j-frogs-and-worms.jpg
END:VEVENT
BEGIN:VEVENT
DTSTART;TZID=America/New_York:20260713T180000
DTEND;TZID=America/New_York:20260810T200000
DTSTAMP:20260423T154934
CREATED:20260326T184124Z
LAST-MODIFIED:20260326T184124Z
UID:5708-1783965600-1786392000@elyriaartscouncil.org
SUMMARY:Teen & Adult Pottery class
DESCRIPTION:Join a fun Pottery class with Anne Jesse! This class is for beginners to advanced students. You will have many options to hand build multiple items including;  plates\, bowls\, mugs\, coiled vessels\, & textured garden tiles. All supplies & firings are provided. This is a fun and relaxing class! Cost for all 4 days the class meets is $150.00. We skip one week between pottery making and glazing to allow time for drying and firing of work. This class takes place Monday evenings 6-8pm July 13th\, 20th\, and August 3rd & 10th. Sign-up now by buying a “Ticket” or stop in to  EAC or give us a call at 440-328-3025. Class fees are due one week before class begins. Scholarships are available for those with tight budgets\, please inquire if interested!
URL:https://elyriaartscouncil.org/event/teen-adult-pottery-class-2/
LOCATION:Elyria Arts Council\, 336 Broad Street\, Elyria\, OH\, 44035\, United States
CATEGORIES:adult classes,class,teen class
ATTACH;FMTTYPE=image/jpeg:https://elyriaartscouncil.org/wp-content/uploads/2023/05/IMG_7084.jpg
ORGANIZER;CN="Elyria Arts Council":MAILTO:elyriaartscouncil@gmail.com
END:VEVENT
END:VCALENDAR